BEGIN:VCALENDAR
VERSION:2.0
PRODID:icalendar-ruby
CALSCALE:GREGORIAN
METHOD:PUBLISH
BEGIN:VEVENT
DTSTAMP:20260420T171421Z
UID:c2147a79-9942-4532-8537-e4db4cc48091
DTSTART:20260717T140000
DTEND:20260718T180000
LOCATION:Augenklinik des LMU Klinikums\, Mathildenstraße 8\, 80336 Münch
 en
SUMMARY:56. Wacker-Kurs für vitreoretinale Chirurgie in München
END:VEVENT
END:VCALENDAR
