BEGIN:VCALENDAR
VERSION:2.0
PRODID:icalendar-ruby
CALSCALE:GREGORIAN
METHOD:PUBLISH
BEGIN:VEVENT
DTSTAMP:20260423T163208Z
UID:8704a77d-61b6-46a4-9430-5e4bffc3d73c
DTSTART:20260506T143000
DTEND:20260506T191500
LOCATION:Hörsaal III \nLMU Klinikum - Großhadern\nMarchioninistr. 15\n81
 377 München
SUMMARY:Aktuelles zum Thema Schilddrüse - Update 2026
END:VEVENT
END:VCALENDAR
