BEGIN:VCALENDAR
VERSION:2.0
PRODID:icalendar-ruby
CALSCALE:GREGORIAN
METHOD:PUBLISH
BEGIN:VEVENT
DTSTAMP:20260421T084146Z
UID:4a1316a4-c66e-47eb-a4bd-ad2a487802ea
DTSTART:20260228T090000
DTEND:20261025T170000
LOCATION:Online\, Zoom
SUMMARY:DTG-Grundkurs Reisemedizin 2026
END:VEVENT
END:VCALENDAR
