BEGIN:VCALENDAR
VERSION:2.0
PRODID:icalendar-ruby
CALSCALE:GREGORIAN
METHOD:PUBLISH
BEGIN:VEVENT
DTSTAMP:20260421T224517Z
UID:4573e73d-6628-448b-972b-bf192061eb57
DTSTART:20250929T000000
DTEND:20251002T000000
LOCATION: Hamburg
SUMMARY:The European Congress on Tropical Medicine and International Health
  (ECTMIH) 2025
END:VEVENT
END:VCALENDAR
